BEGIN:VCALENDAR
VERSION:2.0
PRODID:-//ChamberMaster//Event Calendar 2.0//EN
METHOD:PUBLISH
X-PUBLISHED-TTL:P3D
REFRESH-INTERVAL:P3D
CALSCALE:GREGORIAN
BEGIN:VEVENT
DTSTART:20250527T190000Z
DTEND:20250527T200000Z
X-MICROSOFT-CDO-ALLDAYEVENT:FALSE
SUMMARY:Webinar: NM SBIR Matching Grant – Funding Your Next Step Toward Commercialization
DESCRIPTION:Learn how New Mexico's SBIR Matching Grant can help your company bridge the gap between research and market. This informational webinar will walk through eligibility\, timelines\, and allowable uses of funds under the FY26 application cycle.\n\nDesigned for New Mexico-based small businesses with an active or recently completed SBIR/STTR Phase I or Phase II award\, the grant supports commercialization efforts not covered by federal funding such as IP protection\, lab validation\, and market development.\n\nWhether you're already preparing an application or just exploring options\, this session will help clarify how to leverage this opportunity to accelerate your path to market.\n\nApplications are open May 20   June 10\, 2025.
X-ALT-DESC;FMTTYPE=text/html:<p data-end="566" data-start="325">Learn how New Mexico&rsquo\;s SBIR Matching Grant can help your company bridge the gap between research and market. This informational webinar will walk through eligibility\, timelines\, and allowable uses of funds under the FY26 application cycle.</p>\n\n<p data-end="827" data-start="568">Designed for New Mexico-based small businesses with an active or recently completed SBIR/STTR Phase I or Phase II award\, the grant supports commercialization efforts not covered by federal funding&mdash\;such as IP protection\, lab validation\, and market development.</p>\n\n<p data-end="1002" data-start="829">Whether you&#39\;re already preparing an application or just exploring options\, this session will help clarify how to leverage this opportunity to accelerate your path to market.</p>\n\n<p data-end="1053" data-start="1004"><strong data-end="1053" data-start="1004">Applications are open May 20 &ndash\; June 10\, 2025.</strong></p>\n
LOCATION:
UID:e.9470.4497
SEQUENCE:3
DTSTAMP:20260424T122401Z
URL:https://business.nmtechcouncil.org/events/details/webinar-nm-sbir-matching-grant-funding-your-next-step-toward-commercialization-4497
END:VEVENT

END:VCALENDAR
