BEGIN:VCALENDAR
VERSION:2.0
PRODID:-//ChamberMaster//Event Calendar 2.0//EN
METHOD:PUBLISH
X-PUBLISHED-TTL:P3D
REFRESH-INTERVAL:P3D
CALSCALE:GREGORIAN
BEGIN:VEVENT
DTSTART:20250523T190000Z
DTEND:20250523T220000Z
X-MICROSOFT-CDO-ALLDAYEVENT:FALSE
SUMMARY:VIT New Mexico Chapter Launch and Employer Summit
DESCRIPTION:Join Us for the Launch of the VetsinTech New Mexico Chapter!\n\nWe are thrilled to announce the official launch of the VetsinTech New Mexico Chapter!\n\nVetsinTech is a national nonprofit dedicated to supporting veterans and military spouses by connecting them to the technology ecosystem through Education\, Employment\, and Entrepreneurship opportunities. We help our transitioning military\, veterans\, and spouses build successful careers in the tech industry.\n\nCome celebrate with us as we establish our presence in New Mexico! This is a fantastic opportunity to:\n\n  Learn more about VetsinTech and our mission.\n\n  Meet the New Mexico chapter leaders and fellow community members.\n\n  Hear from distinguished guests.\n\n  Engage with a panel of local employers.\n\n  Network with veterans\, military spouses\, tech professionals\, and potential employers.\n\nEvent Details:\n\n  Date: Friday\, May 23\, 2025\n\n  Time: 1:00 PM - 4:00 PM MDT\n\n  Location: The New Mexico Military Museum 1050 Old Pecos Trail Santa Fe\, NM 87505\n\n \n\nAgenda: (Subject to change based on final event timing)\n\n  1:00 PM - 1:30 PM: Welcome Remarks: Rob Black - Economic Development Department Secretary\, Katherine Webster - VetsinTech CEO\n\n  1:30 PM - 2:30 PM: Employer Panel & Q&A\n\no Topic: Value of Veterans in the workforce\n\no Hear from leading employers in New Mexico and participate in an open Q&A.\n\no Invited Guests: Governor Michelle Lujan Grisham and Lt. Governor Howie Morales\n\n2:30 PM - 3:45 PM: Networking Reception\n\no Connect with veterans\, employers\, and community members over snacks & drinks.\n\n3:45 PM - 4:00 PM: Closing Remarks\n\nWhether you are a veteran or military spouse interested in tech\, a potential employer looking for talent\, or someone who wants to support our mission\, we welcome you!
X-ALT-DESC;FMTTYPE=text/html:<p style="margin: 0px\; padding: 0px\; box-sizing: border-box\; font-size: 16px\; line-height: 1.5rem\; color: rgb(111\, 114\, 135)\; font-family: &quot\;Neue Plak&quot\;\, -apple-system\, &quot\;system-ui&quot\;\, Roboto\, &quot\;Helvetica Neue&quot\;\, Helvetica\, Tahoma\, Arial\, sans-serif\;"><span style="font-weight: 700\; box-sizing: border-box\; padding-top: 0px\;">Join Us for the Launch of the VetsinTech New Mexico Chapter!</span></p>\n\n<p style="margin: 0px\; padding: 10px 0px 0px\; box-sizing: border-box\; font-size: 16px\; line-height: 1.5rem\; color: rgb(111\, 114\, 135)\; font-family: &quot\;Neue Plak&quot\;\, -apple-system\, &quot\;system-ui&quot\;\, Roboto\, &quot\;Helvetica Neue&quot\;\, Helvetica\, Tahoma\, Arial\, sans-serif\;">We are thrilled to announce the official launch of the VetsinTech New Mexico Chapter!</p>\n\n<p style="margin: 0px\; padding: 10px 0px 0px\; box-sizing: border-box\; font-size: 16px\; line-height: 1.5rem\; color: rgb(111\, 114\, 135)\; font-family: &quot\;Neue Plak&quot\;\, -apple-system\, &quot\;system-ui&quot\;\, Roboto\, &quot\;Helvetica Neue&quot\;\, Helvetica\, Tahoma\, Arial\, sans-serif\;">VetsinTech is a national nonprofit dedicated to supporting veterans and military spouses by connecting them to the technology ecosystem through&nbsp\;<span style="font-weight: 700\; box-sizing: border-box\; padding-top: 0px\;">Education\, Employment\, and Entrepreneurship&nbsp\;</span>opportunities. We help our transitioning military\, veterans\, and spouses build successful careers in the tech industry.</p>\n\n<p style="margin: 0px\; padding: 10px 0px 0px\; box-sizing: border-box\; font-size: 16px\; line-height: 1.5rem\; color: rgb(111\, 114\, 135)\; font-family: &quot\;Neue Plak&quot\;\, -apple-system\, &quot\;system-ui&quot\;\, Roboto\, &quot\;Helvetica Neue&quot\;\, Helvetica\, Tahoma\, Arial\, sans-serif\;">Come celebrate with us as we establish our presence in New Mexico! This is a fantastic opportunity to:</p>\n\n<p style="margin: 0px\; padding: 10px 0px 0px\; box-sizing: border-box\; font-size: 16px\; line-height: 1.5rem\; color: rgb(111\, 114\, 135)\; font-family: &quot\;Neue Plak&quot\;\, -apple-system\, &quot\;system-ui&quot\;\, Roboto\, &quot\;Helvetica Neue&quot\;\, Helvetica\, Tahoma\, Arial\, sans-serif\;">&middot\; Learn more about VetsinTech and our mission.</p>\n\n<p style="margin: 0px\; padding: 10px 0px 0px\; box-sizing: border-box\; font-size: 16px\; line-height: 1.5rem\; color: rgb(111\, 114\, 135)\; font-family: &quot\;Neue Plak&quot\;\, -apple-system\, &quot\;system-ui&quot\;\, Roboto\, &quot\;Helvetica Neue&quot\;\, Helvetica\, Tahoma\, Arial\, sans-serif\;">&middot\; Meet the New Mexico chapter leaders and fellow community members.</p>\n\n<p style="margin: 0px\; padding: 10px 0px 0px\; box-sizing: border-box\; font-size: 16px\; line-height: 1.5rem\; color: rgb(111\, 114\, 135)\; font-family: &quot\;Neue Plak&quot\;\, -apple-system\, &quot\;system-ui&quot\;\, Roboto\, &quot\;Helvetica Neue&quot\;\, Helvetica\, Tahoma\, Arial\, sans-serif\;">&middot\; Hear from distinguished guests.</p>\n\n<p style="margin: 0px\; padding: 10px 0px 0px\; box-sizing: border-box\; font-size: 16px\; line-height: 1.5rem\; color: rgb(111\, 114\, 135)\; font-family: &quot\;Neue Plak&quot\;\, -apple-system\, &quot\;system-ui&quot\;\, Roboto\, &quot\;Helvetica Neue&quot\;\, Helvetica\, Tahoma\, Arial\, sans-serif\;">&middot\; Engage with a panel of local employers.</p>\n\n<p style="margin: 0px\; padding: 10px 0px 0px\; box-sizing: border-box\; font-size: 16px\; line-height: 1.5rem\; color: rgb(111\, 114\, 135)\; font-family: &quot\;Neue Plak&quot\;\, -apple-system\, &quot\;system-ui&quot\;\, Roboto\, &quot\;Helvetica Neue&quot\;\, Helvetica\, Tahoma\, Arial\, sans-serif\;">&middot\; Network with veterans\, military spouses\, tech professionals\, and potential employers.</p>\n\n<p style="margin: 0px\; padding: 10px 0px 0px\; box-sizing: border-box\; font-size: 16px\; line-height: 1.5rem\; color: rgb(111\, 114\, 135)\; font-family: &quot\;Neue Plak&quot\;\, -apple-system\, &quot\;system-ui&quot\;\, Roboto\, &quot\;Helvetica Neue&quot\;\, Helvetica\, Tahoma\, Arial\, sans-serif\;"><span style="font-weight: 700\; box-sizing: border-box\; padding-top: 0px\;">Event Details:</span></p>\n\n<p style="margin: 0px\; padding: 10px 0px 0px\; box-sizing: border-box\; font-size: 16px\; line-height: 1.5rem\; color: rgb(111\, 114\, 135)\; font-family: &quot\;Neue Plak&quot\;\, -apple-system\, &quot\;system-ui&quot\;\, Roboto\, &quot\;Helvetica Neue&quot\;\, Helvetica\, Tahoma\, Arial\, sans-serif\;">&middot\;&nbsp\;<span style="font-weight: 700\; box-sizing: border-box\; padding-top: 0px\;">Date:</span>&nbsp\;Friday\, May 23\, 2025</p>\n\n<p style="margin: 0px\; padding: 10px 0px 0px\; box-sizing: border-box\; font-size: 16px\; line-height: 1.5rem\; color: rgb(111\, 114\, 135)\; font-family: &quot\;Neue Plak&quot\;\, -apple-system\, &quot\;system-ui&quot\;\, Roboto\, &quot\;Helvetica Neue&quot\;\, Helvetica\, Tahoma\, Arial\, sans-serif\;">&middot\;&nbsp\;<span style="font-weight: 700\; box-sizing: border-box\; padding-top: 0px\;">Time:</span>&nbsp\;1:00 PM - 4:00 PM MDT</p>\n\n<p style="margin: 0px\; padding: 10px 0px 0px\; box-sizing: border-box\; font-size: 16px\; line-height: 1.5rem\; color: rgb(111\, 114\, 135)\; font-family: &quot\;Neue Plak&quot\;\, -apple-system\, &quot\;system-ui&quot\;\, Roboto\, &quot\;Helvetica Neue&quot\;\, Helvetica\, Tahoma\, Arial\, sans-serif\;">&middot\;&nbsp\;<span style="font-weight: 700\; box-sizing: border-box\; padding-top: 0px\;">Location:</span>&nbsp\;The New Mexico Military Museum 1050 Old Pecos Trail Santa Fe\, NM 87505</p>\n\n<p style="margin: 0px\; padding: 10px 0px 0px\; box-sizing: border-box\; font-size: 16px\; line-height: 1.5rem\; color: rgb(111\, 114\, 135)\; font-family: &quot\;Neue Plak&quot\;\, -apple-system\, &quot\;system-ui&quot\;\, Roboto\, &quot\;Helvetica Neue&quot\;\, Helvetica\, Tahoma\, Arial\, sans-serif\;">&nbsp\;</p>\n\n<p style="margin: 0px\; padding: 10px 0px 0px\; box-sizing: border-box\; font-size: 16px\; line-height: 1.5rem\; color: rgb(111\, 114\, 135)\; font-family: &quot\;Neue Plak&quot\;\, -apple-system\, &quot\;system-ui&quot\;\, Roboto\, &quot\;Helvetica Neue&quot\;\, Helvetica\, Tahoma\, Arial\, sans-serif\;"><span style="font-weight: 700\; box-sizing: border-box\; padding-top: 0px\;">Agenda:</span>&nbsp\;<em style="box-sizing: border-box\;">(Subject to change based on final event timing)</em></p>\n\n<p style="margin: 0px\; padding: 10px 0px 0px\; box-sizing: border-box\; font-size: 16px\; line-height: 1.5rem\; color: rgb(111\, 114\, 135)\; font-family: &quot\;Neue Plak&quot\;\, -apple-system\, &quot\;system-ui&quot\;\, Roboto\, &quot\;Helvetica Neue&quot\;\, Helvetica\, Tahoma\, Arial\, sans-serif\;">&middot\;&nbsp\;<span style="font-weight: 700\; box-sizing: border-box\; padding-top: 0px\;">1:00 PM - 1:30 PM:</span><em style="box-sizing: border-box\;"><span style="font-weight: 700\; box-sizing: border-box\; padding-top: 0px\;">&nbsp\;Welcome Remarks:&nbsp\;</span></em><em style="box-sizing: border-box\;"><span style="font-weight: 700\; box-sizing: border-box\; padding-top: 0px\;">Rob Black - Economic Development Department Secretary\, Katherine Webster - VetsinTech CEO</span></em></p>\n\n<p style="margin: 0px\; padding: 10px 0px 0px\; box-sizing: border-box\; font-size: 16px\; line-height: 1.5rem\; color: rgb(111\, 114\, 135)\; font-family: &quot\;Neue Plak&quot\;\, -apple-system\, &quot\;system-ui&quot\;\, Roboto\, &quot\;Helvetica Neue&quot\;\, Helvetica\, Tahoma\, Arial\, sans-serif\;">&middot\;&nbsp\;<span style="font-weight: 700\; box-sizing: border-box\; padding-top: 0px\;">1:30 PM - 2:30 PM:</span>&nbsp\;Employer Panel &amp\; Q&amp\;A</p>\n\n<p style="margin: 0px\; padding: 10px 0px 0px\; box-sizing: border-box\; font-size: 16px\; line-height: 1.5rem\; color: rgb(111\, 114\, 135)\; font-family: &quot\;Neue Plak&quot\;\, -apple-system\, &quot\;system-ui&quot\;\, Roboto\, &quot\;Helvetica Neue&quot\;\, Helvetica\, Tahoma\, Arial\, sans-serif\;">o&nbsp\;<em style="box-sizing: border-box\; padding-top: 0px\;">Topic: Value of Veterans in the workforce</em></p>\n\n<p style="margin: 0px\; padding: 10px 0px 0px\; box-sizing: border-box\; font-size: 16px\; line-height: 1.5rem\; color: rgb(111\, 114\, 135)\; font-family: &quot\;Neue Plak&quot\;\, -apple-system\, &quot\;system-ui&quot\;\, Roboto\, &quot\;Helvetica Neue&quot\;\, Helvetica\, Tahoma\, Arial\, sans-serif\;">o&nbsp\;<em style="box-sizing: border-box\; padding-top: 0px\;">Hear from leading employers in New Mexico and participate in an open Q&amp\;A.</em></p>\n\n<p style="margin: 0px\; padding: 10px 0px 0px\; box-sizing: border-box\; font-size: 16px\; line-height: 1.5rem\; color: rgb(111\, 114\, 135)\; font-family: &quot\;Neue Plak&quot\;\, -apple-system\, &quot\;system-ui&quot\;\, Roboto\, &quot\;Helvetica Neue&quot\;\, Helvetica\, Tahoma\, Arial\, sans-serif\;"><em style="box-sizing: border-box\; padding-top: 0px\;"><span style="font-weight: 700\; box-sizing: border-box\; padding-top: 0px\;">o Invited Guests: Governor Michelle Lujan Grisham and Lt. Governor&nbsp\;</span></em><em style="box-sizing: border-box\;"><span style="font-weight: 700\; box-sizing: border-box\; padding-top: 0px\;">Howie Morales</span></em></p>\n\n<p style="margin: 0px\; padding: 10px 0px 0px\; box-sizing: border-box\; font-size: 16px\; line-height: 1.5rem\; color: rgb(111\, 114\, 135)\; font-family: &quot\;Neue Plak&quot\;\, -apple-system\, &quot\;system-ui&quot\;\, Roboto\, &quot\;Helvetica Neue&quot\;\, Helvetica\, Tahoma\, Arial\, sans-serif\;"><span style="font-weight: 700\; box-sizing: border-box\; padding-top: 0px\;">2:30 PM - 3:45 PM:</span>&nbsp\;Networking Reception</p>\n\n<p style="margin: 0px\; padding: 10px 0px 0px\; box-sizing: border-box\; font-size: 16px\; line-height: 1.5rem\; color: rgb(111\, 114\, 135)\; font-family: &quot\;Neue Plak&quot\;\, -apple-system\, &quot\;system-ui&quot\;\, Roboto\, &quot\;Helvetica Neue&quot\;\, Helvetica\, Tahoma\, Arial\, sans-serif\;">o&nbsp\;<em style="box-sizing: border-box\; padding-top: 0px\;">Connect with veterans\, employers\, and community members over snacks &amp\; drinks.</em></p>\n\n<p style="margin: 0px\; padding: 10px 0px 0px\; box-sizing: border-box\; font-size: 16px\; line-height: 1.5rem\; color: rgb(111\, 114\, 135)\; font-family: &quot\;Neue Plak&quot\;\, -apple-system\, &quot\;system-ui&quot\;\, Roboto\, &quot\;Helvetica Neue&quot\;\, Helvetica\, Tahoma\, Arial\, sans-serif\;"><span style="font-weight: 700\; box-sizing: border-box\; padding-top: 0px\;">3:45 PM - 4:00 PM:</span>&nbsp\;Closing Remarks</p>\n\n<p style="margin: 0px\; padding: 10px 0px 0px\; box-sizing: border-box\; font-size: 16px\; line-height: 1.5rem\; color: rgb(111\, 114\, 135)\; font-family: &quot\;Neue Plak&quot\;\, -apple-system\, &quot\;system-ui&quot\;\, Roboto\, &quot\;Helvetica Neue&quot\;\, Helvetica\, Tahoma\, Arial\, sans-serif\;">Whether you are a veteran or military spouse interested in tech\, a potential employer looking for talent\, or someone who wants to support our mission\, we welcome you!</p>\n
LOCATION:
UID:e.9470.4363
SEQUENCE:3
DTSTAMP:20260424T110034Z
URL:https://business.nmtechcouncil.org/events/details/vit-new-mexico-chapter-launch-and-employer-summit-4363
END:VEVENT

END:VCALENDAR
