BEGIN:VCALENDAR
VERSION:2.0
PRODID:-//ChamberMaster//Event Calendar 2.0//EN
METHOD:PUBLISH
X-PUBLISHED-TTL:P3D
REFRESH-INTERVAL:P3D
CALSCALE:GREGORIAN
BEGIN:VEVENT
DTSTART;VALUE=DATE:20250417
DTEND;VALUE=DATE:20250419
TRANSP:TRANSPARENT
X-MICROSOFT-CDO-ALLDAYEVENT:TRUE
SUMMARY:Tech Days | The University of New Mexico
DESCRIPTION:Tech Days 2025\, hosted by the University of New Mexico's Office of the Chief Information Officer\, takes place April 17th and 18th at the UNM Student Union Building. This free event showcases cutting-edge technology through hands-on demonstrations\, interactive sessions\, and discussions tailored to current and emerging innovations shaping the university's technological landscape. Registration opens on March 7th and closes April 4th. The call for presentations is open until February 14th\, inviting speakers to contribute to this dynamic program. Don't miss this opportunity to explore and engage with the future of technology at UNM!
X-ALT-DESC;FMTTYPE=text/html:<span style="color: rgb(29\, 28\, 29)\; font-family: Slack-Lato\, Slack-Fractions\, appleLogo\, sans-serif\; font-size: 15px\; font-variant-ligatures: common-ligatures\; background-color: rgb(248\, 248\, 248)\;">Tech Days 2025\, hosted by the University of New Mexico&#39\;s Office of the Chief Information Officer\, takes place April 17th and 18th at the UNM Student Union Building. This free event showcases cutting-edge technology through hands-on demonstrations\, interactive sessions\, and discussions tailored to current and emerging innovations shaping the university&#39\;s technological landscape.&nbsp\;</span><span style="color: rgb(29\, 28\, 29)\; font-family: Slack-Lato\, Slack-Fractions\, appleLogo\, sans-serif\; font-size: 15px\; font-variant-ligatures: common-ligatures\; background-color: rgb(248\, 248\, 248)\;">Registration opens on March 7th and closes April 4th. The call for presentations is open until February 14th\, inviting speakers to contribute to this dynamic program. Don&#39\;t miss this opportunity to explore and engage with the future of technology at UNM!</span>
LOCATION:UNM Student Union Building
UID:e.9470.2402
SEQUENCE:3
DTSTAMP:20260424T123409Z
URL:https://business.nmtechcouncil.org/events/details/tech-days-the-university-of-new-mexico-2402
END:VEVENT

END:VCALENDAR
