BEGIN:VCALENDAR
VERSION:2.0
PRODID:-//ChamberMaster//Event Calendar 2.0//EN
METHOD:PUBLISH
X-PUBLISHED-TTL:P3D
REFRESH-INTERVAL:P3D
CALSCALE:GREGORIAN
BEGIN:VEVENT
DTSTART:20250416T170000Z
DTEND:20250416T230000Z
X-MICROSOFT-CDO-ALLDAYEVENT:FALSE
SUMMARY:Southwest Boss of SOC (BOTS) Cybersecurity Workshop
DESCRIPTION:Overview:\n\nSouthwest BOTS is a cutting-edge\, team-based cybersecurity competition where participants work through real-world security incidents in simulated environments. Using Splunk's Security Suite\, teams investigate\, detect\, and respond to complex security challenges in real-time.\n\nKey Takeaways:\n\n\n	\n	Hands-on experience with leading cybersecurity tools\n	\n	\n	Real-time incident investigation and response practice\n	\n	\n	Team collaboration in high-pressure scenarios\n	\n	\n	Skills directly applicable to Security Operations Centers (SOCs)\n	\n\n\nWho Should Attend:\n\n\n	\n	Students in cybersecurity\, computer science\, or IT\n	\n	\n	Cybersecurity professionals seeking hands-on experience\n	\n	\n	Educators integrating SOC training into curricula\n	\n	\n	Anyone passionate about cybersecurity and threat detection
X-ALT-DESC;FMTTYPE=text/html:<p data-end="886" data-start="596"><strong data-end="609" data-start="596">Overview:</strong><br data-end="612" data-start="609" />\nSouthwest BOTS is a cutting-edge\, team-based cybersecurity competition where participants work through real-world security incidents in simulated environments. Using Splunk&rsquo\;s Security Suite\, teams investigate\, detect\, and respond to complex security challenges in real-time.</p>\n\n<p data-end="908" data-start="888"><strong data-end="906" data-start="888">Key Takeaways:</strong></p>\n\n<ul data-end="1141" data-start="909">\n	<li data-end="965" data-start="909">\n	<p data-end="965" data-start="911">Hands-on experience with leading cybersecurity tools</p>\n	</li>\n	<li data-end="1024" data-start="966">\n	<p data-end="1024" data-start="968">Real-time incident investigation and response practice</p>\n	</li>\n	<li data-end="1074" data-start="1025">\n	<p data-end="1074" data-start="1027">Team collaboration in high-pressure scenarios</p>\n	</li>\n	<li data-end="1141" data-start="1075">\n	<p data-end="1141" data-start="1077">Skills directly applicable to Security Operations Centers (SOCs)</p>\n	</li>\n</ul>\n\n<p data-end="1167" data-start="1143"><strong data-end="1165" data-start="1143">Who Should Attend:</strong></p>\n\n<ul data-end="1397" data-start="1168">\n	<li data-end="1222" data-start="1168">\n	<p data-end="1222" data-start="1170">Students in cybersecurity\, computer science\, or IT</p>\n	</li>\n	<li data-end="1282" data-start="1223">\n	<p data-end="1282" data-start="1225">Cybersecurity professionals seeking hands-on experience</p>\n	</li>\n	<li data-end="1336" data-start="1283">\n	<p data-end="1336" data-start="1285">Educators integrating SOC training into curricula</p>\n	</li>\n	<li data-end="1397" data-start="1337">\n	<p data-end="1397" data-start="1339">Anyone passionate about cybersecurity and threat detection</p>\n	</li>\n</ul>\n
LOCATION:CNM Main Campus Smith Brasher (SB) Hall Lobby (717 University Blvd SE 87106)
UID:e.9470.4226
SEQUENCE:3
DTSTAMP:20260424T123336Z
URL:https://business.nmtechcouncil.org/events/details/southwest-boss-of-soc-bots-cybersecurity-workshop-4226
END:VEVENT

END:VCALENDAR
