BEGIN:VCALENDAR
VERSION:2.0
PRODID:-//ChamberMaster//Event Calendar 2.0//EN
METHOD:PUBLISH
X-PUBLISHED-TTL:P3D
REFRESH-INTERVAL:P3D
CALSCALE:GREGORIAN
BEGIN:VEVENT
DTSTART:20241118T153000Z
DTEND:20241122T003000Z
X-MICROSOFT-CDO-ALLDAYEVENT:FALSE
SUMMARY:SciVista at the 4th Southwest Fire Ecology Conference
DESCRIPTION:Join SciVista at the 4th Southwest Fire Ecology Conference\n\n in Santa Fe\, New Mexico\, from November 18-22\, where they will be showcasing our cutting-edge fire behavior visualization tools\, FireVista .\n\n\n\nSpecial Poster Session on the 18th at 4:00 PM\n\n\n\nExplore their collaboration with Los Alamos National Laboratory (LANL) and their QUICFire research tools during this poster session. Gain insights into how FireVista  complements advanced fire behavior modeling to support effective wildfire management strategies.
X-ALT-DESC;FMTTYPE=text/html:Join <strong>SciVista</strong> at the <strong><span style="font-size:10.0pt\;"><a href="https://swfireconference.org/">4th Southwest Fire Ecology Conference</a></span></strong><br />\n&nbsp\;in Santa Fe\, New Mexico\, from <strong>November 18-22</strong>\, where they will be showcasing our cutting-edge fire behavior visualization tools\, <strong>FireVista&trade\;</strong>.<br />\n<br />\nSpecial Poster Session on the 18th at 4:00 PM<br />\n<br />\nExplore their collaboration with <strong>Los Alamos National Laboratory (LANL)</strong> and their <strong>QUICFire research tools</strong> during this poster session. Gain insights into how FireVista&trade\; complements advanced fire behavior modeling to support effective wildfire management strategies.
LOCATION:Exhibit Area at the Southwest Fire Ecology Conference
UID:e.9470.2375
SEQUENCE:3
DTSTAMP:20260424T222500Z
URL:https://business.nmtechcouncil.org/events/details/scivista-at-the-4th-southwest-fire-ecology-conference-2375
END:VEVENT

END:VCALENDAR
