BEGIN:VCALENDAR
VERSION:2.0
PRODID:-//ChamberMaster//Event Calendar 2.0//EN
METHOD:PUBLISH
X-PUBLISHED-TTL:P3D
REFRESH-INTERVAL:P3D
CALSCALE:GREGORIAN
BEGIN:VEVENT
DTSTART;VALUE=DATE:20250414
DTEND;VALUE=DATE:20250416
TRANSP:TRANSPARENT
X-MICROSOFT-CDO-ALLDAYEVENT:TRUE
SUMMARY:NM AI Consortium Industry Collaboration Day
DESCRIPTION:A Groundbreaking Partnership\n\nThe New Mexico Artificial Intelligence Consortium represents an unprecedented collaboration between our state's national laboratories\, universities\, and colleges. Our members include Sandia National Laboratories\, Los Alamos National Laboratory\, University of New Mexico\, New Mexico State University\, New Mexico Tech\, Central New Mexico Community College\, and the New Mexico Consortium. Our mission is to establish New Mexico as a leader in artificial intelligence and machine learning research\, workforce development\, education\, and infrastructure.\n\nEvent Details\n\nDay 1: Industry Collaboration Day\n\n\n	Date: Monday\, April 14\, 2025\, 8:00 AM - 5:30 PM\n	Location: National Museum of Nuclear Science and History\, 601 Eubank Blvd SE\, Albuquerque\n	Highlights: Keynote presentations\, breakout sessions on AI workforce development\, research opportunities\, and education initiatives in New Mexico\n	Networking Reception: You are welcome to present a poster showcasing your company and its interests in AI\n\n\nDay 2: NVIDIA AI Workshop\n\n\n	Date: Tuesday\, April 15\, 2025\, 8:00 AM - 12:00 PM\n	Location: Lobo Rainforest\, 101 Broadway Blvd NE\, Albuquerque\n	Focus: Hands-on workshops covering large language models and the future of AI\n\n\nWhy Attend?\n\nThis event offers a unique opportunity to:\n\n\n	Connect with AI researchers and leaders from New Mexico's premier institutions\n	Explore potential collaborations with national laboratories and academic partners\n	Gain insights into the latest AI advancements and applications\n	Contribute to shaping New Mexico's AI ecosystem and workforce development\n\n\nRegistration\n\nPlease register at: https://newmexicoconsortium.org/nmaic-industry-collaboration-day\n\nI've attached the official invitation with additional details. We look forward to your participation in this landmark event as we work together to establish New Mexico as a hub for AI innovation. Feel free to contact Cara or Carrie for more details. Please feel free to forward the invitation to others with a New Mexico footprint that might be interested in joining us for our first Industry Day.\n\nSincerely\,\n\nJen Gaudioso\, on behalf of the NM AI Consortium
X-ALT-DESC;FMTTYPE=text/html:<h2 data-olk-copy-source="MessageBody" style="color: rgb(0\, 0\, 0)\; font-family: &quot\;Segoe UI&quot\;\, &quot\;Segoe UI Web (West European)&quot\;\, -apple-system\, &quot\;system-ui&quot\;\, Roboto\, &quot\;Helvetica Neue&quot\;\, sans-serif\;">A Groundbreaking Partnership</h2>\n\n<p style="color: rgb(0\, 0\, 0)\; font-family: &quot\;Segoe UI&quot\;\, &quot\;Segoe UI Web (West European)&quot\;\, -apple-system\, &quot\;system-ui&quot\;\, Roboto\, &quot\;Helvetica Neue&quot\;\, sans-serif\; font-size: 15px\; margin-top: 0px\; margin-bottom: 0px\;">The&nbsp\;<a data-auth="NotApplicable" data-linkindex="2" data-ogsc="" href="https://www.sandia.gov/research/area/computing-information-science-and-mathematics/new-mexico-artificial-intelligence-consortium/" rel="noopener noreferrer" style="border: 0px\; font: inherit\; margin: 0px\; padding: 0px\; vertical-align: baseline\;" target="_blank" title="https://www.sandia.gov/research/area/computing-information-science-and-mathematics/new-mexico-artificial-intelligence-consortium/">New Mexico Artificial Intelligence Consortium</a>&nbsp\;represents an unprecedented collaboration between our state&#39\;s national laboratories\, universities\, and colleges. Our members include Sandia National Laboratories\, Los Alamos National Laboratory\, University of New Mexico\, New Mexico State University\, New Mexico Tech\, Central New Mexico Community College\, and the New Mexico Consortium. Our mission is to establish New Mexico as a leader in artificial intelligence and machine learning research\, workforce development\, education\, and infrastructure.</p>\n\n<h2 style="color: rgb(0\, 0\, 0)\; font-family: &quot\;Segoe UI&quot\;\, &quot\;Segoe UI Web (West European)&quot\;\, -apple-system\, &quot\;system-ui&quot\;\, Roboto\, &quot\;Helvetica Neue&quot\;\, sans-serif\;">Event Details</h2>\n\n<p style="color: rgb(0\, 0\, 0)\; font-family: &quot\;Segoe UI&quot\;\, &quot\;Segoe UI Web (West European)&quot\;\, -apple-system\, &quot\;system-ui&quot\;\, Roboto\, &quot\;Helvetica Neue&quot\;\, sans-serif\; font-size: 15px\; margin-top: 0px\; margin-bottom: 0px\;"><strong><span style="border: 0px\; font-style: inherit\; font-variant: inherit\; font-weight: inherit\; font-stretch: inherit\; font-size: inherit\; line-height: inherit\; font-family: Calibri\, sans-serif\; font-optical-sizing: inherit\; font-size-adjust: inherit\; font-kerning: inherit\; font-feature-settings: inherit\; font-variation-settings: inherit\; margin: 0px\; padding: 0px\; vertical-align: baseline\; color: inherit\;">Day 1: Industry Collaboration Day</span></strong></p>\n\n<ul style="color: rgb(0\, 0\, 0)\; font-family: &quot\;Segoe UI&quot\;\, &quot\;Segoe UI Web (West European)&quot\;\, -apple-system\, &quot\;system-ui&quot\;\, Roboto\, &quot\;Helvetica Neue&quot\;\, sans-serif\; font-size: 15px\;" type="disc">\n	<li><strong><span style="border: 0px\; font-style: inherit\; font-variant: inherit\; font-weight: inherit\; font-stretch: inherit\; font-size: inherit\; line-height: inherit\; font-family: Calibri\, sans-serif\; font-optical-sizing: inherit\; font-size-adjust: inherit\; font-kerning: inherit\; font-feature-settings: inherit\; font-variation-settings: inherit\; margin: 0px\; padding: 0px\; vertical-align: baseline\; color: inherit\;">Date:</span></strong>&nbsp\;Monday\, April 14\, 2025\, 8:00 AM - 5:30 PM</li>\n	<li><strong><span style="border: 0px\; font-style: inherit\; font-variant: inherit\; font-weight: inherit\; font-stretch: inherit\; font-size: inherit\; line-height: inherit\; font-family: Calibri\, sans-serif\; font-optical-sizing: inherit\; font-size-adjust: inherit\; font-kerning: inherit\; font-feature-settings: inherit\; font-variation-settings: inherit\; margin: 0px\; padding: 0px\; vertical-align: baseline\; color: inherit\;">Location:</span></strong>&nbsp\;National Museum of Nuclear Science and History\, 601 Eubank Blvd SE\, Albuquerque</li>\n	<li><strong><span style="border: 0px\; font-style: inherit\; font-variant: inherit\; font-weight: inherit\; font-stretch: inherit\; font-size: inherit\; line-height: inherit\; font-family: Calibri\, sans-serif\; font-optical-sizing: inherit\; font-size-adjust: inherit\; font-kerning: inherit\; font-feature-settings: inherit\; font-variation-settings: inherit\; margin: 0px\; padding: 0px\; vertical-align: baseline\; color: inherit\;">Highlights:</span></strong>&nbsp\;Keynote presentations\, breakout sessions on AI workforce development\, research opportunities\, and education initiatives in New Mexico</li>\n	<li><strong><span style="border: 0px\; font-style: inherit\; font-variant: inherit\; font-weight: inherit\; font-stretch: inherit\; font-size: inherit\; line-height: inherit\; font-family: Calibri\, sans-serif\; font-optical-sizing: inherit\; font-size-adjust: inherit\; font-kerning: inherit\; font-feature-settings: inherit\; font-variation-settings: inherit\; margin: 0px\; padding: 0px\; vertical-align: baseline\; color: inherit\;">Networking Reception:</span></strong>&nbsp\;You are welcome to present a poster showcasing your company and its interests in AI</li>\n</ul>\n\n<p style="color: rgb(0\, 0\, 0)\; font-family: &quot\;Segoe UI&quot\;\, &quot\;Segoe UI Web (West European)&quot\;\, -apple-system\, &quot\;system-ui&quot\;\, Roboto\, &quot\;Helvetica Neue&quot\;\, sans-serif\; font-size: 15px\; margin-top: 0px\; margin-bottom: 0px\;"><strong><span style="border: 0px\; font-style: inherit\; font-variant: inherit\; font-weight: inherit\; font-stretch: inherit\; font-size: inherit\; line-height: inherit\; font-family: Calibri\, sans-serif\; font-optical-sizing: inherit\; font-size-adjust: inherit\; font-kerning: inherit\; font-feature-settings: inherit\; font-variation-settings: inherit\; margin: 0px\; padding: 0px\; vertical-align: baseline\; color: inherit\;">Day 2: NVIDIA AI Workshop</span></strong></p>\n\n<ul style="color: rgb(0\, 0\, 0)\; font-family: &quot\;Segoe UI&quot\;\, &quot\;Segoe UI Web (West European)&quot\;\, -apple-system\, &quot\;system-ui&quot\;\, Roboto\, &quot\;Helvetica Neue&quot\;\, sans-serif\; font-size: 15px\;" type="disc">\n	<li><strong><span style="border: 0px\; font-style: inherit\; font-variant: inherit\; font-weight: inherit\; font-stretch: inherit\; font-size: inherit\; line-height: inherit\; font-family: Calibri\, sans-serif\; font-optical-sizing: inherit\; font-size-adjust: inherit\; font-kerning: inherit\; font-feature-settings: inherit\; font-variation-settings: inherit\; margin: 0px\; padding: 0px\; vertical-align: baseline\; color: inherit\;">Date:</span></strong>&nbsp\;Tuesday\, April 15\, 2025\, 8:00 AM - 12:00 PM</li>\n	<li><strong><span style="border: 0px\; font-style: inherit\; font-variant: inherit\; font-weight: inherit\; font-stretch: inherit\; font-size: inherit\; line-height: inherit\; font-family: Calibri\, sans-serif\; font-optical-sizing: inherit\; font-size-adjust: inherit\; font-kerning: inherit\; font-feature-settings: inherit\; font-variation-settings: inherit\; margin: 0px\; padding: 0px\; vertical-align: baseline\; color: inherit\;">Location:</span></strong>&nbsp\;Lobo Rainforest\, 101 Broadway Blvd NE\, Albuquerque</li>\n	<li><strong><span style="border: 0px\; font-style: inherit\; font-variant: inherit\; font-weight: inherit\; font-stretch: inherit\; font-size: inherit\; line-height: inherit\; font-family: Calibri\, sans-serif\; font-optical-sizing: inherit\; font-size-adjust: inherit\; font-kerning: inherit\; font-feature-settings: inherit\; font-variation-settings: inherit\; margin: 0px\; padding: 0px\; vertical-align: baseline\; color: inherit\;">Focus:</span></strong>&nbsp\;Hands-on workshops covering large language models and the future of AI</li>\n</ul>\n\n<h2 style="color: rgb(0\, 0\, 0)\; font-family: &quot\;Segoe UI&quot\;\, &quot\;Segoe UI Web (West European)&quot\;\, -apple-system\, &quot\;system-ui&quot\;\, Roboto\, &quot\;Helvetica Neue&quot\;\, sans-serif\;">Why Attend?</h2>\n\n<p style="color: rgb(0\, 0\, 0)\; font-family: &quot\;Segoe UI&quot\;\, &quot\;Segoe UI Web (West European)&quot\;\, -apple-system\, &quot\;system-ui&quot\;\, Roboto\, &quot\;Helvetica Neue&quot\;\, sans-serif\; font-size: 15px\; margin-top: 0px\; margin-bottom: 0px\;">This event offers a unique opportunity to:</p>\n\n<ul style="color: rgb(0\, 0\, 0)\; font-family: &quot\;Segoe UI&quot\;\, &quot\;Segoe UI Web (West European)&quot\;\, -apple-system\, &quot\;system-ui&quot\;\, Roboto\, &quot\;Helvetica Neue&quot\;\, sans-serif\; font-size: 15px\;" type="disc">\n	<li>Connect with AI researchers and leaders from New Mexico&#39\;s premier institutions</li>\n	<li>Explore potential collaborations with national laboratories and academic partners</li>\n	<li>Gain insights into the latest AI advancements and applications</li>\n	<li>Contribute to shaping New Mexico&#39\;s AI ecosystem and workforce development</li>\n</ul>\n\n<h2 style="color: rgb(0\, 0\, 0)\; font-family: &quot\;Segoe UI&quot\;\, &quot\;Segoe UI Web (West European)&quot\;\, -apple-system\, &quot\;system-ui&quot\;\, Roboto\, &quot\;Helvetica Neue&quot\;\, sans-serif\;">Registration</h2>\n\n<p style="color: rgb(0\, 0\, 0)\; font-family: &quot\;Segoe UI&quot\;\, &quot\;Segoe UI Web (West European)&quot\;\, -apple-system\, &quot\;system-ui&quot\;\, Roboto\, &quot\;Helvetica Neue&quot\;\, sans-serif\; font-size: 15px\; margin-top: 0px\; margin-bottom: 0px\;">Please register at:&nbsp\;<a data-auth="NotApplicable" data-linkindex="3" data-ogsc="" href="https://newmexicoconsortium.org/nmaic-industry-collaboration-day" rel="noopener noreferrer" style="border: 0px\; font: inherit\; margin: 0px\; padding: 0px\; vertical-align: baseline\;" target="_blank" title="https://newmexicoconsortium.org/nmaic-industry-collaboration-day">https://newmexicoconsortium.org/nmaic-industry-collaboration-day</a></p>\n\n<p style="color: rgb(0\, 0\, 0)\; font-family: &quot\;Segoe UI&quot\;\, &quot\;Segoe UI Web (West European)&quot\;\, -apple-system\, &quot\;system-ui&quot\;\, Roboto\, &quot\;Helvetica Neue&quot\;\, sans-serif\; font-size: 15px\; margin-top: 0px\; margin-bottom: 0px\;">I&#39\;ve attached the official invitation with additional details. We look forward to your participation in this landmark event as we work together to establish New Mexico as a hub for AI innovation. Feel free to contact&nbsp\;<a data-linkindex="4" data-ogsc="" href="mailto:crgarre@sandia.gov" style="border: 0px\; font: inherit\; margin: 0px\; padding: 0px\; vertical-align: baseline\;" title="mailto:crgarre@sandia.gov">Cara</a>&nbsp\;or&nbsp\;<a data-linkindex="5" data-ogsc="" href="mailto:ctalus@newmexicoconsortium.org" style="border: 0px\; font: inherit\; margin: 0px\; padding: 0px\; vertical-align: baseline\;" title="mailto:ctalus@newmexicoconsortium.org">Carrie</a>&nbsp\;for more details. Please feel free to forward the invitation to others with a New Mexico footprint that might be interested in joining us for our first Industry Day.</p>\n\n<p style="color: rgb(0\, 0\, 0)\; font-family: &quot\;Segoe UI&quot\;\, &quot\;Segoe UI Web (West European)&quot\;\, -apple-system\, &quot\;system-ui&quot\;\, Roboto\, &quot\;Helvetica Neue&quot\;\, sans-serif\; font-size: 15px\; margin-top: 0px\; margin-bottom: 0px\;">Sincerely\,</p>\n\n<p style="color: rgb(0\, 0\, 0)\; font-family: &quot\;Segoe UI&quot\;\, &quot\;Segoe UI Web (West European)&quot\;\, -apple-system\, &quot\;system-ui&quot\;\, Roboto\, &quot\;Helvetica Neue&quot\;\, sans-serif\; font-size: 15px\; margin-top: 0px\; margin-bottom: 0px\;">Jen Gaudioso\, on behalf of the NM AI Consortium</p>\n
LOCATION:Day 1 National Museum of Nuclear Science and History\, 601 Eubank Blvd SE\, Albuquerque\, NM 87123 Day 2 Lobo Rainforest 101 Broadway Blvd NE\, Albuquerque\, NM 87102
UID:e.9470.2428
SEQUENCE:3
DTSTAMP:20260424T123203Z
URL:https://business.nmtechcouncil.org/events/details/nm-ai-consortium-industry-collaboration-day-2428
END:VEVENT

END:VCALENDAR
