BEGIN:VCALENDAR
VERSION:2.0
PRODID:-//ChamberMaster//Event Calendar 2.0//EN
METHOD:PUBLISH
X-PUBLISHED-TTL:P3D
REFRESH-INTERVAL:P3D
CALSCALE:GREGORIAN
BEGIN:VEVENT
DTSTART:20250424T160000Z
DTEND:20250424T200000Z
X-MICROSOFT-CDO-ALLDAYEVENT:FALSE
SUMMARY:New Mexico Tribal Entrepreneurship Program Showcase & Celebration
DESCRIPTION:For the past 3 years\, the New Mexico Tribal Entrepreneurship Program (NMTEEP) has been working with Liaisons in various tribal\, rural\, and coal-impacted communities throughout the state of New Mexico\, with a focus on coal-impacted communities.\n\nAs entrepreneurs themselves and active members in their communities\, the Tribal Liaisons have engaged in discovery sessions\, served as mentors\, connectors\, and ecosystem builders for other entrepreneurs. Through this discovery and engagement\, NMTEEP has created a discovery report which identifies needs\, barriers\, actionable solutions\, and recommendations going forward based on the interviews\, stories\, and lived experiences from Native American and tribal entrepreneurs throughout the state of New Mexico.\n\nUNM Rainforest Innovations would like to invite you to a Showcase and Celebration for NMTEEP where the Program Manager and Tribal Liaisons will share the discovery and accomplishments over the past 3 years and discuss ways in which organizations\, government\, resource providers\, and communities can take these discoveries and implement additional programming\, efforts\, and solutions going forward to continue to support indigenous and tribal businesses and entrepreneurs.
X-ALT-DESC;FMTTYPE=text/html:<p data-end="296" data-start="53">For the past 3 years\, the New Mexico Tribal Entrepreneurship Program (NMTEEP) has been working with Liaisons in various tribal\, rural\, and coal-impacted communities throughout the state of New Mexico\, with a focus on coal-impacted communities.</p>\n\n<p data-end="806" data-start="298">As entrepreneurs themselves and active members in their communities\, the Tribal Liaisons have engaged in discovery sessions\, served as mentors\, connectors\, and ecosystem builders for other entrepreneurs. Through this discovery and engagement\, NMTEEP has created a discovery report which identifies needs\, barriers\, actionable solutions\, and recommendations going forward based on the interviews\, stories\, and lived experiences from Native American and tribal entrepreneurs throughout the state of New Mexico.</p>\n\n<p data-end="1279" data-start="808">UNM Rainforest Innovations would like to invite you to a Showcase and Celebration for NMTEEP where the Program Manager and Tribal Liaisons will share the discovery and accomplishments over the past 3 years and discuss ways in which organizations\, government\, resource providers\, and communities can take these discoveries and implement additional programming\, efforts\, and solutions going forward to continue to support indigenous and tribal businesses and entrepreneurs.</p>\n
LOCATION:Lobo Rainforest Building 101 Broadway Blvd. NE\, Albuquerque\, NM 87102
UID:e.9470.2429
SEQUENCE:3
DTSTAMP:20260424T123336Z
URL:https://business.nmtechcouncil.org/events/details/new-mexico-tribal-entrepreneurship-program-showcase-celebration-2429
END:VEVENT

END:VCALENDAR
