BEGIN:VCALENDAR
VERSION:2.0
PRODID:-//ChamberMaster//Event Calendar 2.0//EN
METHOD:PUBLISH
X-PUBLISHED-TTL:P3D
REFRESH-INTERVAL:P3D
CALSCALE:GREGORIAN
BEGIN:VEVENT
DTSTART:20221012T140000Z
DTEND:20221014T230000Z
X-MICROSOFT-CDO-ALLDAYEVENT:FALSE
SUMMARY:New Mexico Cyber & Space Symposium
DESCRIPTION:Deloitte sponsored in collaboration with AFRL's Space Vehicle Directorate\, present a combined Cyber and Space industry event:\n\n  Inaugural 2022 New Mexico Cyber and Space Symposium\n\n  AFRL's second annual Space Cyber Summit\n\nHosted by Central New Mexico Community College (CNM) at the CNM Workforce Training Center in Albuquerque.\n\nThe event brings together both cyber and space professionals to address existing and future needs.\n\nHighlights About The Event:\n\n  Explore opportunities for answering current and future challenges related to protecting space systems\, open data systems and discuss cyber initiatives and recommendations for cyber and space defense.\n\n  Statewide forum for government\, academia\, private industry and the public sector to share insights collaborate and help solve challenges facing space\, cybersecurity and national defense.\n\n  Cybersecurity and space professionals participate in panel discussions examining industry insights and opportunities while highlighting cutting-edge cyber and space capabilities and challenges.\n\n  AFRL's Space Cyber Resiliency Technical Area\, Classified SCI-level in-person at AFRL Kirtland Air Force Base. For questions\, email AFRL.RVSW.SpaceCyberSummit@us.af.mil\n\n  Cyber Capture the Flag (CTF) competition engages emerging student (grades 8-12) talent on day 2\, as well as college teams on day three\, and offers exciting networking opportunities with higher education institutions\, cybersecurity\, and space professionals from the public and private sectors. To Register a CTF team\, email mlamanna@deloitte.com\n\n  Connect and collaborate with speakers and industry professionals on Day 1 and Day 2 social mixers.\n\nEvent Tracks:\n\n  Day 1 (Oct. 12): All welcome. Topics will include space systems\, and cyber initiatives and recommendations for cyber and space defense.\n\n  Day 2 (Oct. 13): AFRL's Space Cyber Resiliency Technical Area\, Classified SCI-level in-person at AFRL Kirtland Air Force Base and virtually over IC-Connect and TS VoIP secured connection.\n\n  Day 2 (Oct.13): All welcome. Commercial and Industry open-house style event with panels and Cyber Capture the Flag (CTF) competition.\n\n  Day 3 (Oct.14): All welcome. Commercial and Industry open-house style event with panels and Cyber Capture the Flag (CTF) competition.
X-ALT-DESC;FMTTYPE=text/html:<p style="margin: 0px\; padding: 10px 0px 0px\; box-sizing: border-box\; color: rgb(111\, 114\, 135)\; font-size: 16px\; line-height: 1.5rem\; font-family: &quot\;Neue Plak&quot\;\, -apple-system\, BlinkMacSystemFont\, Roboto\, &quot\;Helvetica Neue&quot\;\, Helvetica\, Tahoma\, Arial\, sans-serif\;">Deloitte sponsored in collaboration with AFRL&rsquo\;s Space Vehicle Directorate\, present a combined Cyber and Space industry event:</p>\n\n<p style="margin: 0px\; padding: 10px 0px 0px\; box-sizing: border-box\; color: rgb(111\, 114\, 135)\; font-size: 16px\; line-height: 1.5rem\; font-family: &quot\;Neue Plak&quot\;\, -apple-system\, BlinkMacSystemFont\, Roboto\, &quot\;Helvetica Neue&quot\;\, Helvetica\, Tahoma\, Arial\, sans-serif\;">&bull\; Inaugural 2022 New Mexico Cyber and Space Symposium</p>\n\n<p style="margin: 0px\; padding: 10px 0px 0px\; box-sizing: border-box\; color: rgb(111\, 114\, 135)\; font-size: 16px\; line-height: 1.5rem\; font-family: &quot\;Neue Plak&quot\;\, -apple-system\, BlinkMacSystemFont\, Roboto\, &quot\;Helvetica Neue&quot\;\, Helvetica\, Tahoma\, Arial\, sans-serif\;">&bull\; AFRL&rsquo\;s second annual Space Cyber Summit</p>\n\n<p style="margin: 0px\; padding: 10px 0px 0px\; box-sizing: border-box\; color: rgb(111\, 114\, 135)\; font-size: 16px\; line-height: 1.5rem\; font-family: &quot\;Neue Plak&quot\;\, -apple-system\, BlinkMacSystemFont\, Roboto\, &quot\;Helvetica Neue&quot\;\, Helvetica\, Tahoma\, Arial\, sans-serif\;">Hosted by Central New Mexico Community College (CNM) at the CNM Workforce Training Center in Albuquerque.</p>\n\n<p style="margin: 0px\; padding: 10px 0px 0px\; box-sizing: border-box\; color: rgb(111\, 114\, 135)\; font-size: 16px\; line-height: 1.5rem\; font-family: &quot\;Neue Plak&quot\;\, -apple-system\, BlinkMacSystemFont\, Roboto\, &quot\;Helvetica Neue&quot\;\, Helvetica\, Tahoma\, Arial\, sans-serif\;">The event brings together both cyber and space professionals to address existing and future needs.</p>\n\n<p style="margin: 0px\; padding: 10px 0px 0px\; box-sizing: border-box\; color: rgb(111\, 114\, 135)\; font-size: 16px\; line-height: 1.5rem\; font-family: &quot\;Neue Plak&quot\;\, -apple-system\, BlinkMacSystemFont\, Roboto\, &quot\;Helvetica Neue&quot\;\, Helvetica\, Tahoma\, Arial\, sans-serif\;"><span style="font-weight: 700\; box-sizing: border-box\; padding-top: 0px\;">Highlights About The Event:</span></p>\n\n<p style="margin: 0px\; padding: 10px 0px 0px\; box-sizing: border-box\; color: rgb(111\, 114\, 135)\; font-size: 16px\; line-height: 1.5rem\; font-family: &quot\;Neue Plak&quot\;\, -apple-system\, BlinkMacSystemFont\, Roboto\, &quot\;Helvetica Neue&quot\;\, Helvetica\, Tahoma\, Arial\, sans-serif\;">&bull\; Explore opportunities for answering current and future challenges related to protecting space systems\, open data systems and discuss cyber initiatives and recommendations for cyber and space defense.</p>\n\n<p style="margin: 0px\; padding: 10px 0px 0px\; box-sizing: border-box\; color: rgb(111\, 114\, 135)\; font-size: 16px\; line-height: 1.5rem\; font-family: &quot\;Neue Plak&quot\;\, -apple-system\, BlinkMacSystemFont\, Roboto\, &quot\;Helvetica Neue&quot\;\, Helvetica\, Tahoma\, Arial\, sans-serif\;">&bull\; Statewide forum for government\, academia\, private industry and the public sector to share insights collaborate and help solve challenges facing space\, cybersecurity and national defense.</p>\n\n<p style="margin: 0px\; padding: 10px 0px 0px\; box-sizing: border-box\; color: rgb(111\, 114\, 135)\; font-size: 16px\; line-height: 1.5rem\; font-family: &quot\;Neue Plak&quot\;\, -apple-system\, BlinkMacSystemFont\, Roboto\, &quot\;Helvetica Neue&quot\;\, Helvetica\, Tahoma\, Arial\, sans-serif\;">&bull\; Cybersecurity and space professionals participate in panel discussions examining industry insights and opportunities while highlighting cutting-edge cyber and space capabilities and challenges.</p>\n\n<p style="margin: 0px\; padding: 10px 0px 0px\; box-sizing: border-box\; color: rgb(111\, 114\, 135)\; font-size: 16px\; line-height: 1.5rem\; font-family: &quot\;Neue Plak&quot\;\, -apple-system\, BlinkMacSystemFont\, Roboto\, &quot\;Helvetica Neue&quot\;\, Helvetica\, Tahoma\, Arial\, sans-serif\;">&bull\; AFRL&rsquo\;s Space Cyber Resiliency Technical Area\, Classified SCI-level in-person at AFRL Kirtland Air Force Base. For questions\,<span style="font-weight: 700\; box-sizing: border-box\; padding-top: 0px\;">&nbsp\;email AFRL.RVSW.SpaceCyberSummit@us.af.mil</span></p>\n\n<p style="margin: 0px\; padding: 10px 0px 0px\; box-sizing: border-box\; color: rgb(111\, 114\, 135)\; font-size: 16px\; line-height: 1.5rem\; font-family: &quot\;Neue Plak&quot\;\, -apple-system\, BlinkMacSystemFont\, Roboto\, &quot\;Helvetica Neue&quot\;\, Helvetica\, Tahoma\, Arial\, sans-serif\;">&bull\; Cyber Capture the Flag (CTF) competition engages emerging student (grades 8-12) talent on day 2\, as well as college teams on day three\, and offers exciting networking opportunities with higher education institutions\, cybersecurity\, and space professionals from the public and private sectors. To Register a CTF team\,&nbsp\;<span style="font-weight: 700\; box-sizing: border-box\; padding-top: 0px\;">email mlamanna@deloitte.com</span></p>\n\n<p style="margin: 0px\; padding: 10px 0px 0px\; box-sizing: border-box\; color: rgb(111\, 114\, 135)\; font-size: 16px\; line-height: 1.5rem\; font-family: &quot\;Neue Plak&quot\;\, -apple-system\, BlinkMacSystemFont\, Roboto\, &quot\;Helvetica Neue&quot\;\, Helvetica\, Tahoma\, Arial\, sans-serif\;">&bull\; Connect and collaborate with speakers and industry professionals on Day 1 and Day 2 social mixers.</p>\n\n<p style="margin: 0px\; padding: 10px 0px 0px\; box-sizing: border-box\; color: rgb(111\, 114\, 135)\; font-size: 16px\; line-height: 1.5rem\; font-family: &quot\;Neue Plak&quot\;\, -apple-system\, BlinkMacSystemFont\, Roboto\, &quot\;Helvetica Neue&quot\;\, Helvetica\, Tahoma\, Arial\, sans-serif\;"><span style="font-weight: 700\; box-sizing: border-box\; padding-top: 0px\;">Event Tracks:</span></p>\n\n<p style="margin: 0px\; padding: 10px 0px 0px\; box-sizing: border-box\; color: rgb(111\, 114\, 135)\; font-size: 16px\; line-height: 1.5rem\; font-family: &quot\;Neue Plak&quot\;\, -apple-system\, BlinkMacSystemFont\, Roboto\, &quot\;Helvetica Neue&quot\;\, Helvetica\, Tahoma\, Arial\, sans-serif\;">&bull\; Day 1 (Oct. 12): All welcome. Topics will include space systems\, and cyber initiatives and recommendations for cyber and space defense.</p>\n\n<p style="margin: 0px\; padding: 10px 0px 0px\; box-sizing: border-box\; color: rgb(111\, 114\, 135)\; font-size: 16px\; line-height: 1.5rem\; font-family: &quot\;Neue Plak&quot\;\, -apple-system\, BlinkMacSystemFont\, Roboto\, &quot\;Helvetica Neue&quot\;\, Helvetica\, Tahoma\, Arial\, sans-serif\;">&bull\; Day 2 (Oct. 13): AFRL&rsquo\;s Space Cyber Resiliency Technical Area\, Classified SCI-level in-person at AFRL Kirtland Air Force Base and virtually over IC-Connect and TS VoIP secured connection.</p>\n\n<p style="margin: 0px\; padding: 10px 0px 0px\; box-sizing: border-box\; color: rgb(111\, 114\, 135)\; font-size: 16px\; line-height: 1.5rem\; font-family: &quot\;Neue Plak&quot\;\, -apple-system\, BlinkMacSystemFont\, Roboto\, &quot\;Helvetica Neue&quot\;\, Helvetica\, Tahoma\, Arial\, sans-serif\;">&bull\; Day 2 (Oct.13): All welcome. Commercial and Industry open-house style event with panels and Cyber Capture the Flag (CTF) competition.</p>\n\n<p style="margin: 0px\; padding: 10px 0px 0px\; box-sizing: border-box\; color: rgb(111\, 114\, 135)\; font-size: 16px\; line-height: 1.5rem\; font-family: &quot\;Neue Plak&quot\;\, -apple-system\, BlinkMacSystemFont\, Roboto\, &quot\;Helvetica Neue&quot\;\, Helvetica\, Tahoma\, Arial\, sans-serif\;">&bull\; Day 3 (Oct.14): All welcome. Commercial and Industry open-house style event with panels and Cyber Capture the Flag (CTF) competition.</p>\n
LOCATION:CNM Workforce Training Center 5600 Eagle Rock Avenue Northeast Albuquerque\, NM 87113
UID:e.9470.2188
SEQUENCE:3
DTSTAMP:20260423T224725Z
URL:https://business.nmtechcouncil.org/events/details/new-mexico-cyber-space-symposium-2188
END:VEVENT

END:VCALENDAR
