BEGIN:VCALENDAR
VERSION:2.0
PRODID:-//ChamberMaster//Event Calendar 2.0//EN
METHOD:PUBLISH
X-PUBLISHED-TTL:P3D
REFRESH-INTERVAL:P3D
CALSCALE:GREGORIAN
BEGIN:VEVENT
DTSTART:20250424T220000Z
DTEND:20250424T233000Z
X-MICROSOFT-CDO-ALLDAYEVENT:FALSE
SUMMARY:New Member Welcome | April 2025
DESCRIPTION:NMTC Member Welcome  \n\n\n\n\n\nWe invite all members\, new or established\, to attend our Member Welcome\, an informative and fun event designed to educate you on how to get the most out of your membership! \n\n\nWhat to Expect: \n\n\n\n\n	Overview of NMTC Benefits: Learn about all the exclusive services and advantages available to you as a member\, including how to navigate the Member Portal \n\n\n\n\n\n	Deep Dive into NMTC Programming: Learn all about our programs and events designed to help you connect with the local tech industry\, stay ahead of the current trends\, and promote your organization.  \n\n\n\n\n\n	Networking Opportunity: Meet other NMTC members\, board members\, and get to know our dedicated NMTC team! \n\n\n\n\nRefreshments: We will serve beer\, wine\, refreshing beverages and light snacks. \n\n\n\nThis is a great opportunity to connect with fellow members\, ask questions\, and ensure you're fully equipped to take full advantage of all NMTC has to offer. \n\n\n\nWe look forward to seeing you there! \n\n \n\n\n\n\nThinking about becoming a member? Reach out to sara@nmtechcouncil.org for an invite
X-ALT-DESC;FMTTYPE=text/html:<div font-size:="" segoe="" ui="">\n<h1 paraeid="{ba5ba5f7-abf5-4784-92a4-5aff00126b52}{56}" paraid="667640083" style="text-align: center\;"><strong>NMTC Member Welcome&nbsp\;&nbsp\;</strong></h1>\n</div>\n\n<div font-size:="" segoe="" ui="">\n<p paraeid="{ba5ba5f7-abf5-4784-92a4-5aff00126b52}{66}" paraid="2026386546"><br />\nWe invite all members\, new or established\, to attend our Member Welcome\, an informative and fun event designed to educate you on how to get the most out of your membership!&nbsp\;</p>\n\n<div font-size:="" segoe="" ui="">\n<p paraeid="{ba5ba5f7-abf5-4784-92a4-5aff00126b52}{76}" paraid="46130096"><strong>What to Expect</strong>:&nbsp\;</p>\n</div>\n\n<div font-size:="" segoe="" ui="">\n<ul>\n	<li paraeid="{ba5ba5f7-abf5-4784-92a4-5aff00126b52}{82}" paraid="1592780457"><strong>Overview of NMTC Benefits</strong>: Learn about all the exclusive services and advantages available to you as a member\, including how to navigate the Member Portal&nbsp\;</li>\n</ul>\n</div>\n\n<div font-size:="" segoe="" ui="">\n<ul>\n	<li paraeid="{ba5ba5f7-abf5-4784-92a4-5aff00126b52}{90}" paraid="1472717658"><strong>Deep Dive into NMTC Programming</strong>: Learn all about our programs and events designed to help you connect with the local tech industry\, stay ahead of the current trends\, and promote your organization.&nbsp\;&nbsp\;</li>\n</ul>\n</div>\n\n<div font-size:="" segoe="" ui="">\n<ul>\n	<li paraeid="{ba5ba5f7-abf5-4784-92a4-5aff00126b52}{98}" paraid="629238254"><strong>Networking Opportunity</strong>: Meet other NMTC members\, board members\, and get to know our dedicated NMTC team!&nbsp\;</li>\n</ul>\n\n<div>\n<div font-size:="" segoe="" ui="">\n<p paraeid="{ba5ba5f7-abf5-4784-92a4-5aff00126b52}{106}" paraid="1892393058"><strong>Refreshments</strong>: We will serve beer\, wine\, refreshing beverages and light snacks.&nbsp\;</p>\n</div>\n\n<div font-size:="" segoe="" ui="">\n<p paraeid="{ba5ba5f7-abf5-4784-92a4-5aff00126b52}{116}" paraid="1088017388">This is a great opportunity to connect with fellow members\, ask questions\, and ensure you&#39\;re fully equipped to take full advantage of all NMTC has to offer.&nbsp\;</p>\n</div>\n\n<div font-size:="" segoe="" ui="">\n<p paraeid="{ba5ba5f7-abf5-4784-92a4-5aff00126b52}{122}" paraid="388254758">We look forward to seeing you there!&nbsp\;<br />\n&nbsp\;</p>\n</div>\n</div>\n</div>\n\n<div style="text-align: center\;"><strong>Thinking about becoming a member? Reach out to sara@nmtechcouncil.org&nbsp\;for an invite&nbsp\;</strong></div>\n\n<div>&nbsp\;</div>\n</div>\n
LOCATION:FatPipe ABQ 200 Broadway Blvd NE\, Albuquerque\, NM 87102 We're at 200 Broadway Blvd NE\, Albuquerque\, NM 87102\, near Tijeras & Broadway\, across from UNM Rainforest Innovations. Free parallel parking is available on both Broadway and Tijeras. Look for the FatPipe ABQ sign over the front door to find us.
UID:e.9470.2420
SEQUENCE:3
DTSTAMP:20260424T123347Z
URL:https://business.nmtechcouncil.org/events/details/new-member-welcome-april-2025-2420
END:VEVENT

END:VCALENDAR
