BEGIN:VCALENDAR
VERSION:2.0
PRODID:-//ChamberMaster//Event Calendar 2.0//EN
METHOD:PUBLISH
X-PUBLISHED-TTL:P3D
REFRESH-INTERVAL:P3D
CALSCALE:GREGORIAN
BEGIN:VEVENT
DTSTART:20250430T170000Z
DTEND:20250430T190000Z
X-MICROSOFT-CDO-ALLDAYEVENT:FALSE
SUMMARY:Funding Forward: Venture Capital & Growth in New Mexico
DESCRIPTION:NMTC Presents \n\nFunding Forward\n\nVenture Capital & Growth in New Mexico  \n\n\n\nThis FREE event will provide an informative overview of venture capital and an update on the 2025 NM legislative session.  \n\n\n\nWhether you are an entrepreneur\, startup founder\, business owner or just interested in learning more about the topic\, this event will equip you to understand the factors impacting New Mexico's investment ecosystem.  \n\n\n\nAGENDA: \n\n\n\n	11:00 AM | Check-in & Networking \n	 12:00 PM | *Lunch & Informational Presentation\n	\n		 Introductions \n		NM Legislative Update  \n		State of Venture Capital in NM  \n	\n	\n	1:00 PM | Event Concludes \n\n\n\n\nThis is your chance to gain clarity on the funding process\, learn about new financial resources\, and connect with experts who can help you take the next step. \n\n\n\n*Complimentary lunch will be provided!
X-ALT-DESC;FMTTYPE=text/html:<div>\n<h2 paraeid="{20775d7e-0326-4e66-8d58-63f50524ad48}{135}" paraid="1578615888" style="text-align: center\;" xml:lang="EN-US"><strong>NMTC Presents&nbsp\;</strong></h2>\n\n<div paraeid="{20775d7e-0326-4e66-8d58-63f50524ad48}{135}" paraid="1578615888" style="text-align: center\;" xml:lang="EN-US"><span class="TextRun SCXW44109371 BCX0" data-contrast="auto" lang="EN-US" style="-webkit-user-drag: none\; -webkit-tap-highlight-color: transparent\; margin: 0px\; padding: 0px\; user-select: text\; color: rgb(0\, 0\, 0)\; font-style: normal\; white-space-collapse: preserve\; font-size: 12pt\; line-height: 20.925px\; font-family: &quot\;Arial Nova&quot\;\, &quot\;Arial Nova_EmbeddedFont&quot\;\, &quot\;Arial Nova_MSFontService&quot\;\, sans-serif\; font-weight: bold\; font-variant-ligatures: none !important\;" xml:lang="EN-US"><span class="NormalTextRun SCXW44109371 BCX0" style="-webkit-user-drag: none\; -webkit-tap-highlight-color: transparent\; margin: 0px\; padding: 0px\; user-select: text\;"><span style="font-size:26px\;">Funding Forward</span></span><br />\n<span style="font-size:20px\;"><span class="NormalTextRun SCXW44109371 BCX0" style="-webkit-user-drag: none\; -webkit-tap-highlight-color: transparent\; margin: 0px\; padding: 0px\; user-select: text\;">Venture </span><span class="NormalTextRun SCXW44109371 BCX0" style="-webkit-user-drag: none\; -webkit-tap-highlight-color: transparent\; margin: 0px\; padding: 0px\; user-select: text\;">Capital &amp\;</span><span class="NormalTextRun SCXW44109371 BCX0" style="-webkit-user-drag: none\; -webkit-tap-highlight-color: transparent\; margin: 0px\; padding: 0px\; user-select: text\;"> </span><span class="NormalTextRun SCXW44109371 BCX0" style="-webkit-user-drag: none\; -webkit-tap-highlight-color: transparent\; margin: 0px\; padding: 0px\; user-select: text\;">Growth</span><span class="NormalTextRun SCXW44109371 BCX0" style="-webkit-user-drag: none\; -webkit-tap-highlight-color: transparent\; margin: 0px\; padding: 0px\; user-select: text\;"> in New Mexico </span></span></span><span style="font-size:20px\;"><span class="EOP SCXW44109371 BCX0" data-ccp-props="{&quot\;134233117&quot\;:false\,&quot\;134233118&quot\;:false\,&quot\;335551550&quot\;:0\,&quot\;335551620&quot\;:0\,&quot\;335559738&quot\;:240\,&quot\;335559739&quot\;:240}" style="-webkit-user-drag: none\; -webkit-tap-highlight-color: transparent\; margin: 0px\; padding: 0px\; user-select: text\; color: rgb(0\, 0\, 0)\; white-space-collapse: preserve\; line-height: 20.925px\; font-family: &quot\;Arial Nova&quot\;\, &quot\;Arial Nova_EmbeddedFont&quot\;\, &quot\;Arial Nova_MSFontService&quot\;\, sans-serif\;">&nbsp\;</span></span>\n\n<hr /></div>\n\n<p paraeid="{20775d7e-0326-4e66-8d58-63f50524ad48}{135}" paraid="1578615888" xml:lang="EN-US"><span style="font-size:16px\;">This&nbsp\;<strong>FREE </strong>event will provide an informative overview of venture capital and an update on the 2025 NM legislative session. &nbsp\;</span></p>\n</div>\n\n<div>\n<p paraeid="{45171a00-63dc-4f68-8001-d55e6b8df4cf}{160}" paraid="610087180" xml:lang="EN-US"><span style="font-size:14px\;"><span style="font-size:16px\;">Whether you are an entrepreneur\, startup founder\, business owner or just&nbsp\;interested in learning more about the topic\, this event will equip you to understand the factors impacting New Mexico&rsquo\;s investment ecosystem.<span class="TextRun SCXW213221823 BCX0" data-contrast="auto" lang="EN-US" style="-webkit-user-drag: none\; -webkit-tap-highlight-color: transparent\; margin: 0px\; padding: 0px\; user-select: text\; line-height: 20.925px\; font-family: &quot\;Arial Nova&quot\;\, &quot\;Arial Nova_EmbeddedFont&quot\;\, &quot\;Arial Nova_MSFontService&quot\;\, sans-serif\; font-variant-ligatures: none !important\;" xml:lang="EN-US"><span class="NormalTextRun SCXW213221823 BCX0" style="-webkit-user-drag: none\; -webkit-tap-highlight-color: transparent\; margin: 0px\; padding: 0px\; user-select: text\;"> </span></span></span><span class="EOP SCXW213221823 BCX0" data-ccp-props="{&quot\;134233117&quot\;:false\,&quot\;134233118&quot\;:false\,&quot\;335551550&quot\;:0\,&quot\;335551620&quot\;:0\,&quot\;335559738&quot\;:240\,&quot\;335559739&quot\;:240}" style="-webkit-user-drag: none\; -webkit-tap-highlight-color: transparent\; margin: 0px\; padding: 0px\; user-select: text\; line-height: 20.925px\; font-family: &quot\;Arial Nova&quot\;\, &quot\;Arial Nova_EmbeddedFont&quot\;\, &quot\;Arial Nova_MSFontService&quot\;\, sans-serif\;"><span style="font-size:16px\;">&nbsp\;</span></span></span><br />\n<br />\n<span style="font-size:16px\;"><strong>AGENDA:&nbsp\;</strong></span></p>\n\n<div>\n<ul>\n	<li paraeid="{14f30eb2-33f6-4dad-a73a-94a7579e2c0b}{79}" paraid="1515524810" xml:lang="EN-US"><span style="font-size:16px\;"><strong>11:00 AM</strong> | Check-in &amp\; Networking&nbsp\;</span></li>\n	<li paraeid="{14f30eb2-33f6-4dad-a73a-94a7579e2c0b}{79}" paraid="1515524810" xml:lang="EN-US"><span style="font-size:16px\;">&#8203\;<strong>12:00 PM </strong>| *Lunch &amp\; Informational Presentation</span>\n	<ul>\n		<li paraeid="{14f30eb2-33f6-4dad-a73a-94a7579e2c0b}{79}" paraid="1515524810" xml:lang="EN-US"><span style="font-size:16px\;">&#8203\;Introductions&nbsp\;</span></li>\n		<li paraeid="{14f30eb2-33f6-4dad-a73a-94a7579e2c0b}{79}" paraid="1515524810" xml:lang="EN-US"><span style="font-size:16px\;">NM Legislative Update &nbsp\;</span></li>\n		<li paraeid="{14f30eb2-33f6-4dad-a73a-94a7579e2c0b}{79}" paraid="1515524810" xml:lang="EN-US"><span style="font-size:16px\;">State of Venture Capital in NM &nbsp\;</span></li>\n	</ul>\n	</li>\n	<li paraeid="{14f30eb2-33f6-4dad-a73a-94a7579e2c0b}{79}" paraid="1515524810" xml:lang="EN-US"><span style="font-size:16px\;"><strong>1:00 PM </strong>| Event Concludes&nbsp\;</span></li>\n</ul>\n</div>\n\n<div>\n<p paraeid="{20775d7e-0326-4e66-8d58-63f50524ad48}{206}" paraid="1240966206" xml:lang="EN-US"><span style="font-size:16px\;">This is your chance to gain clarity on the funding process\, learn about new financial resources\, and connect with experts who can help you take the next step.&nbsp\;</span><br />\n<br />\n<em>*Complimentary lunch will be provided!</em></p>\n</div>\n</div>\n
LOCATION:Q-Station 3225 Central Ave NE Albuquerque\, NM 87106
UID:e.9470.2560
SEQUENCE:3
DTSTAMP:20260424T123628Z
URL:https://business.nmtechcouncil.org/events/details/funding-forward-venture-capital-growth-in-new-mexico-2560
END:VEVENT

END:VCALENDAR
