BEGIN:VCALENDAR
VERSION:2.0
PRODID:-//ChamberMaster//Event Calendar 2.0//EN
METHOD:PUBLISH
X-PUBLISHED-TTL:P3D
REFRESH-INTERVAL:P3D
CALSCALE:GREGORIAN
BEGIN:VEVENT
DTSTART:20250207T003000Z
DTEND:20250207T023000Z
X-MICROSOFT-CDO-ALLDAYEVENT:FALSE
SUMMARY:From Pitch to Payday: The Lifecycle of a Deal
DESCRIPTION:From Pitch to Payday: The Lifecycle of a Deal offers an in-depth look at how startups can prepare for a successful exit and maximize their value along the way. This engaging panel discussion brings together top experts from K. McDonald & Co.\, REDW\, and Blackgarden Law to break down the lifecycle of a deal\, sharing insights into:\n\n\n	Strategies for positioning your company for a standout exit.\n	Navigating the legal\, financial\, and operational complexities of transitioning ownership.\n	Real-world lessons and best practices from successful exits.\n\n\nBeyond the expert advice\, this event provides a unique opportunity to network with industry leaders\, fellow entrepreneurs\, and potential collaborators in a welcoming environment. With food\, drinks\, and meaningful discussions\, you'll leave equipped with actionable knowledge to guide your company toward a bright future.
X-ALT-DESC;FMTTYPE=text/html:<p>From Pitch to Payday: The Lifecycle of a Deal offers an in-depth look at how startups can prepare for a successful exit and maximize their value along the way. This engaging panel discussion brings together top experts from K. McDonald &amp\; Co.\, REDW\, and Blackgarden Law to break down the lifecycle of a deal\, sharing insights into:</p>\n\n<ul>\n	<li>Strategies for positioning your company for a standout exit.</li>\n	<li>Navigating the legal\, financial\, and operational complexities of transitioning ownership.</li>\n	<li>Real-world lessons and best practices from successful exits.</li>\n</ul>\n\n<p>Beyond the expert advice\, this event provides a unique opportunity to network with industry leaders\, fellow entrepreneurs\, and potential collaborators in a welcoming environment. With food\, drinks\, and meaningful discussions\, you&rsquo\;ll leave equipped with actionable knowledge to guide your company toward a bright future.</p>\n
LOCATION:Roadrunner Venture Studios 701 Spur St NE Suite C\, Albuquerque\, NM 87102\, USA
UID:e.9470.2406
SEQUENCE:3
DTSTAMP:20260424T161529Z
URL:https://business.nmtechcouncil.org/events/details/from-pitch-to-payday-the-lifecycle-of-a-deal-2406
END:VEVENT

END:VCALENDAR
