BEGIN:VCALENDAR
VERSION:2.0
PRODID:-//ChamberMaster//Event Calendar 2.0//EN
METHOD:PUBLISH
X-PUBLISHED-TTL:P3D
REFRESH-INTERVAL:P3D
CALSCALE:GREGORIAN
BEGIN:VEVENT
DTSTART:20250503T190000Z
DTEND:20250503T233000Z
X-MICROSOFT-CDO-ALLDAYEVENT:FALSE
SUMMARY:Derby Day New Mexico
DESCRIPTION:Derby Day NM is a benefit for the New Mexico Cancer Center Foundation\, bringing the spirit of the Kentucky Derby to Albuquerque. Enjoy derby inspired cocktails\, live music\, gourmet food stations\, premium cigars and casino games all while raising funds to cover non-medical expenses for cancer patients across the state.\n\nEvent Highlights\n\n\n	\n	Live music by Mariachi Norte o and Entourage Jazz Group\n	\n	\n	First 200 guests receive a complimentary Mint Julep\n	\n	\n	Casino games: blackjack\, roulette and more\n	\n	\n	Hollow Spirits whiskey tasting (while supplies last)\n	\n	\n	Silent auction\, 50/50 raffle and Win Place Show raffle\n	\n	\n	Cigar lounge access with Monte's Premium Cigars\n	\n	\n	Derby Day race viewing on big screen\n	\n\n\nSchedule at a Glance\n\n\n	\n	1:00 PM   Guest arrival\, Mint Juleps and raffle ticket distribution\n	\n	\n	1:30 PM   Opening remarks and sponsor recognition\n	\n	\n	2:30 PM   Foundation spotlight with NMCCF CEO Tim Tokarski and Nicole Powers\n	\n	\n	4:30 PM   Live broadcast of the Kentucky Derby\n	\n	\n	5:00 PM   Raffle winners\, closing remarks\n	\n\n\nTickets\n\nSingle entry   $125 donation\n\nIncludes one Mint Julep\, casino game access\, one raffle ticket and cigar lounge access
X-ALT-DESC;FMTTYPE=text/html:<p data-end="448" data-start="105">Derby Day NM is a benefit for the New Mexico Cancer Center Foundation\, bringing the spirit of the Kentucky Derby to Albuquerque. Enjoy derby&#8208\;inspired cocktails\, live music\, gourmet food stations\, premium cigars and casino games&mdash\;all while raising funds to cover non-medical expenses for cancer patients across the state.</p>\n\n<p data-end="472" data-start="450"><strong data-end="470" data-start="450">Event Highlights</strong></p>\n\n<ul data-end="844" data-start="473">\n	<li data-end="532" data-start="473">\n	<p data-end="532" data-start="475">Live music by Mariachi Norte&ntilde\;o and Entourage Jazz Group</p>\n	</li>\n	<li data-end="588" data-start="533">\n	<p data-end="588" data-start="535">First 200 guests receive a complimentary Mint Julep</p>\n	</li>\n	<li data-end="635" data-start="589">\n	<p data-end="635" data-start="591">Casino games: blackjack\, roulette and more</p>\n	</li>\n	<li data-end="692" data-start="636">\n	<p data-end="692" data-start="638">Hollow Spirits whiskey tasting (while supplies last)</p>\n	</li>\n	<li data-end="751" data-start="693">\n	<p data-end="751" data-start="695">Silent auction\, 50/50 raffle and Win Place Show raffle</p>\n	</li>\n	<li data-end="803" data-start="752">\n	<p data-end="803" data-start="754">Cigar lounge access with Monte&rsquo\;s Premium Cigars</p>\n	</li>\n	<li data-end="844" data-start="804">\n	<p data-end="844" data-start="806">Derby Day race viewing on big screen</p>\n	</li>\n</ul>\n\n<p data-end="872" data-start="846"><strong data-end="870" data-start="846">Schedule at a Glance</strong></p>\n\n<ul data-end="1196" data-start="873">\n	<li data-end="948" data-start="873">\n	<p data-end="948" data-start="875"><strong data-end="886" data-start="875">1:00 PM</strong> &ndash\; Guest arrival\, Mint Juleps and raffle ticket distribution</p>\n	</li>\n	<li data-end="1006" data-start="949">\n	<p data-end="1006" data-start="951"><strong data-end="962" data-start="951">1:30 PM</strong> &ndash\; Opening remarks and sponsor recognition</p>\n	</li>\n	<li data-end="1091" data-start="1007">\n	<p data-end="1091" data-start="1009"><strong data-end="1020" data-start="1009">2:30 PM</strong> &ndash\; Foundation spotlight with NMCCF CEO Tim Tokarski and Nicole Powers</p>\n	</li>\n	<li data-end="1146" data-start="1092">\n	<p data-end="1146" data-start="1094"><strong data-end="1105" data-start="1094">4:30 PM</strong> &ndash\; Live broadcast of the Kentucky Derby</p>\n	</li>\n	<li data-end="1196" data-start="1147">\n	<p data-end="1196" data-start="1149"><strong data-end="1160" data-start="1149">5:00 PM</strong> &ndash\; Raffle winners\, closing remarks</p>\n	</li>\n</ul>\n\n<p data-end="1331" data-start="1198"><strong data-end="1209" data-start="1198">Tickets</strong><br data-end="1212" data-start="1209" />\nSingle entry &ndash\; $125 donation<br data-end="1243" data-start="1240" />\nIncludes one Mint Julep\, casino game access\, one raffle ticket and cigar lounge access</p>\n
LOCATION:Winrock Park\, Albuquerque
UID:e.9470.4231
SEQUENCE:3
DTSTAMP:20260424T105927Z
URL:https://business.nmtechcouncil.org/events/details/derby-day-new-mexico-4231
END:VEVENT

END:VCALENDAR
