BEGIN:VCALENDAR
VERSION:2.0
PRODID:-//ChamberMaster//Event Calendar 2.0//EN
METHOD:PUBLISH
X-PUBLISHED-TTL:P3D
REFRESH-INTERVAL:P3D
CALSCALE:GREGORIAN
BEGIN:VEVENT
DTSTART:20241107T230000Z
DTEND:20241108T000000Z
X-MICROSOFT-CDO-ALLDAYEVENT:FALSE
SUMMARY:CANCELLED New Member Welcome | November 2024
DESCRIPTION:New Member Welcome \n\n\n\nWe are excited to welcome our new members to the New Mexico Technology Council! \n\n \n\nMembers and new members alike are invited to attend this informative and fun session  that will help new members become familiar with their Membership Benefits. During this event NMTC staff will cover how to start leveraging their NMTC membership to the fullest.  Any current member that would like to refresh themselves on benefits\, how to use the member portal\, etc. is encouraged to attend. In addition to learning about your benefits\, you will connect with other NMTC members\, board members\, and get to know the NMTC team! Non-alcoholic and alcoholic drinks and snacks will be served.  \n\n\n\nThis event is exclusive to NMTC members and all representatives from member organizations are welcome to attend.  If you are unsure of your member login\, please contact info@nmtechcouncil.org for assistance.
X-ALT-DESC;FMTTYPE=text/html:<div style="text-align: center\;"><span style="font-size:16px\;"><span data-darkreader-inline-color="" style="color: rgb(0\, 128\, 128)\; --darkreader-inline-color: #72ffff\;"><strong>New Member Welcome&nbsp\;</strong></span></span></div>\n\n<div style="text-align: center\;"><br />\n<span style="font-size:16px\;"><span data-darkreader-inline-color="" style="color: rgb(0\, 128\, 128)\; --darkreader-inline-color: #72ffff\;"><span style="font-family:arial\;">We are excited to welcome our new members to the New Mexico Technology Council!&nbsp\;</span></span></span></div>\n\n<div><span style="font-size:16px\;"><span data-darkreader-inline-color="" style="color: rgb(0\, 128\, 128)\; --darkreader-inline-color: #72ffff\;"><span style="font-family:arial\;">&nbsp\;</span></span></span></div>\n\n<div style="text-align: justify\;"><span style="font-size:16px\;"><span data-darkreader-inline-color="" style="color: rgb(0\, 128\, 128)\; --darkreader-inline-color: #72ffff\;"><span style="font-family:arial\;">Members and new members alike are invited to attend this informative and fun session&nbsp\; that&nbsp\;will help new members become&nbsp\;familiar with their Membership Benefits.&nbsp\;During this event NMTC staff will cover how to&nbsp\;start&nbsp\;</span><span style="font-family:arial\,sans-serif\;"><span style="font-family:arial\;">leveraging their NMTC membership to the fullest.&nbsp\; Any current member that would like to refresh themselves on benefits\, how to use the member portal\, etc. is encouraged to attend. In addition to learning about your benefits\, you will connect with other NMTC members\, board members\, and get to know the NMTC team! Non-alcoholic and alcoholic drinks&nbsp\;and snacks will be served.&nbsp\;&nbsp\;</span></span></span><br />\n<br />\n<span data-darkreader-inline-color="" style="color: rgb(0\, 128\, 128)\; --darkreader-inline-color: #72ffff\;"><span background-color:="" font-size:="" style="font-family: arial\;" trebuchet=""><strong>This event is exclusive to NMTC members and a</strong></span><strong><span style="font-family: arial\;">ll representatives from member organizations are welcome to attend.&nbsp\;&nbsp\;</span></strong></span><strong><span style="font-family: arial\;"><em background-color:="" data-darkreader-inline-color="" font-size:="" style="color: rgb(51\, 153\, 153)\; --darkreader-inline-color: #6ecfcf\;" trebuchet="">If you are unsure of your member login\, please contact info@nmtechcouncil.org for assistance.</em></span></strong></span></div>\n
LOCATION:NMTC Offices at Fat Pipe 200 Broadway Blvd. NE
UID:e.9470.2372
SEQUENCE:3
DTSTAMP:20260424T222321Z
URL:https://business.nmtechcouncil.org/events/details/cancelled-new-member-welcome-november-2024-2372
END:VEVENT

END:VCALENDAR
