BEGIN:VCALENDAR
VERSION:2.0
PRODID:-//ChamberMaster//Event Calendar 2.0//EN
METHOD:PUBLISH
X-PUBLISHED-TTL:P3D
REFRESH-INTERVAL:P3D
CALSCALE:GREGORIAN
BEGIN:VEVENT
DTSTART:20231020T190000Z
DTEND:20231020T200000Z
X-MICROSOFT-CDO-ALLDAYEVENT:FALSE
SUMMARY:Broadband Peer Group: 2024 Legislative Session
DESCRIPTION:The Broadband Peer Group is an opportunity for professionals across the state to discuss and collaborate with local and state government entities. This month we will be discussing proposals for the upcoming legislative session.\n\n\n\nNMTC Peer Groups are free and open to everyone.
X-ALT-DESC;FMTTYPE=text/html:<p><span style="font-family:arial\,sans-serif\;">The Broadband Peer Group is an opportunity for professionals across the state to discuss and collaborate with local and state government entities. This month we will be discussing proposals for the upcoming legislative session.</span><br />\n<br />\n<span style="color: rgb(68\, 68\, 68)\;"><span style="font-size:14px\;"><span style="font-family:arial\;">NMTC Peer Groups are free and open to everyone.</span></span></span></p>\n
LOCATION:Microsoft Teams meeting Join on your computer\, mobile app or room device Click here to join the meeting Meeting ID: 235 542 937 402 Passcode: gcHTE5 Download Teams | Join on the web Or call in (audio only) +1 347-467-1434\,\,510714756# United States\, New York City Phone Conference ID: 510 714 756# Find a local number | Reset PIN Learn More | Meeting options
UID:e.9470.2273
SEQUENCE:3
DTSTAMP:20260421T091419Z
URL:https://business.nmtechcouncil.org/events/details/broadband-peer-group-2024-legislative-session-2273
END:VEVENT

END:VCALENDAR
