BEGIN:VCALENDAR
VERSION:2.0
PRODID:-//ChamberMaster//Event Calendar 2.0//EN
METHOD:PUBLISH
X-PUBLISHED-TTL:P3D
REFRESH-INTERVAL:P3D
CALSCALE:GREGORIAN
BEGIN:VEVENT
DTSTART:20230907T140000Z
DTEND:20230908T230000Z
X-MICROSOFT-CDO-ALLDAYEVENT:FALSE
SUMMARY:2023 New Mexico Tech Summit
DESCRIPTION:The New Mexico Tech Summit is the flagship tech event in New Mexico\, where founders\, business leaders\, policymakers\, investors\, and rising stars will come together to transform the future of tech in our state. The event offers 30 breakout sessions over 10 tracks\, 2 influential keynote speakers\, and 600+ attendees. \n\nAttending The New Mexico Tech Summit will provide you with a unique opportunity to gain insights from industry experts and exchange strategies with like-minded professionals. Join our community of thought leaders and learn from over 70 speakers who will cover topics relevant to elevating our local tech economy and how to keep pace with the latest global trends. \n\nThis event is open to all who are interested in advancing the local tech economy! No experience or technical proficiency is required.
X-ALT-DESC;FMTTYPE=text/html:<div class="OutlineElement Ltr SCXW88592520 BCX0" style="margin: 0px\; padding: 0px\; user-select: text\; -webkit-user-drag: none\; -webkit-tap-highlight-color: transparent\; overflow: visible\; cursor: text\; clear: both\; position: relative\; direction: ltr\; color: rgb(0\, 0\, 0)\; font-family: &quot\;Segoe UI&quot\;\, &quot\;Segoe UI Web&quot\;\, Arial\, Verdana\, sans-serif\; font-size: 12px\;">\n<div class="OutlineElement Ltr SCXW248810487 BCX0" style="margin: 0px\; padding: 0px\; user-select: text\; -webkit-user-drag: none\; -webkit-tap-highlight-color: transparent\; overflow: visible\; cursor: text\; clear: both\; position: relative\; direction: ltr\; color: rgb(0\, 0\, 0)\; font-family: &quot\;Segoe UI&quot\;\, &quot\;Segoe UI Web&quot\;\, Arial\, Verdana\, sans-serif\; font-size: 12px\;">\n<p style="box-sizing: border-box\; margin: 0px 0px 20px\; color: rgb(116\, 116\, 116)\; font-family: Texta\, Arial\, Helvetica\, sans-serif\; font-size: 20px\;"><span style="color:#000000\;"><span data-contrast="none" style="box-sizing: border-box\;">The New Mexico Tech Summit is the flagship tech event in New Mexico\, where founders\, business leaders\, policymakers\, investors\, and rising stars will come together to transform the future of tech in our state. The event offers 30 breakout sessions over 10 tracks\, 2 influential keynote speakers\, and 600+ attendees.</span><span data-ccp-props="{" style="box-sizing: border-box\;">&nbsp\;</span></span></p>\n\n<p style="box-sizing: border-box\; margin: 0px 0px 20px\; color: rgb(116\, 116\, 116)\; font-family: Texta\, Arial\, Helvetica\, sans-serif\; font-size: 20px\;"><span style="color:#000000\;"><span data-contrast="auto" style="box-sizing: border-box\;">Attending The New Mexico Tech Summit will provide you with a unique opportunity to gain insights from industry experts and exchange strategies with like-minded professionals. Join our community of thought leaders and learn from over 70 speakers who will cover topics relevant to elevating our local tech economy and how to keep pace with the latest global trends.</span><span data-ccp-props="{" style="box-sizing: border-box\;">&nbsp\;</span></span></p>\n\n<p style="box-sizing: border-box\; margin: 0px 0px 20px\; color: rgb(116\, 116\, 116)\; font-family: Texta\, Arial\, Helvetica\, sans-serif\; font-size: 20px\;"><span style="color:#000000\;">This event is open to all who are interested in advancing the local tech economy! No experience or technical proficiency is required.</span></p>\n</div>\n</div>\n
LOCATION:Albuquerque Convention Center 401 2nd St. NW\, Albuquerque\, NM 87102
UID:e.9470.2239
SEQUENCE:3
DTSTAMP:20260420T040711Z
URL:https://business.nmtechcouncil.org/events/details/2023-new-mexico-tech-summit-2239
END:VEVENT

END:VCALENDAR
